BEGIN:VCALENDAR
PRODID:lcms2
VERSION:2.0
METHOD:REQUEST
BEGIN:VEVENT
UID:69e7e36410734
DTSTAMP:20260421T225148
DTSTART:20260519T193000
DTEND:20260519T223000
SUMMARY:Samen scoren bij FC Lisse
DESCRIPTION:ONDB Event 2026-05
END:VEVENT
END:VCALENDAR
